BEGIN:VCALENDAR
VERSION:2.0
PRODID:-//Department Of Education//8a5b52a3-c9b7-4702-8b50-df9e82b24d11
BEGIN:VTIMEZONE
TZID:Australia/Sydney
TZURL:http://tzurl.org/zoneinfo-outlook/Australia/Sydney
X-LIC-LOCATION:Australia/Sydney
BEGIN:STANDARD
TZOFFSETFROM:+1100
TZOFFSETTO:+1000
TZNAME:AEST
DTSTART:19700405T030000
RRULE:FREQ=YEARLY;BYMONTH=4;BYDAY=1SU
END:STANDARD
BEGIN:DAYLIGHT
TZOFFSETFROM:+1000
TZOFFSETTO:+1100
TZNAME:AEDT
DTSTART:19701004T020000
RRULE:FREQ=YEARLY;BYMONTH=10;BYDAY=1SU
END:DAYLIGHT
END:VTIMEZONE
CALSCALE:GREGORIAN
X-WR-TIMEZONE:Australia/Sydney
BEGIN:VEVENT
DTSTART;TZID=Australia/Sydney:20200403T170000
DTEND;TZID=Australia/Sydney:20200403T190000
DTSTAMP:20200403T000000Z
UID:23e54347-79b8-441a-8b4a-d62a513a45c1
LOCATION:Pitt Town Public School
SUMMARY;LANGUAGE=en-us:Welcome BBQ
SEQUENCE:0
DESCRIPTION:Pitt Town Public School staff would like to take this opportunity to welcome our school community for 2020 at our Welome BBQ. Come along for a BBQ sandwich, drink and a chat. We look forward to seeing all our school community and meeting our new families.
END:VEVENT
TRANSP:TRANSPARENT
END:VCALENDAR
