BEGIN:VCALENDAR
VERSION:2.0
PRODID:-//Department Of Education//f4b838b6-763e-43cf-b9ab-06f0fa5508e0
BEGIN:VTIMEZONE
TZID:Australia/Sydney
TZURL:http://tzurl.org/zoneinfo-outlook/Australia/Sydney
X-LIC-LOCATION:Australia/Sydney
BEGIN:STANDARD
TZOFFSETFROM:+1100
TZOFFSETTO:+1000
TZNAME:AEST
DTSTART:19700405T030000
RRULE:FREQ=YEARLY;BYMONTH=4;BYDAY=1SU
END:STANDARD
BEGIN:DAYLIGHT
TZOFFSETFROM:+1000
TZOFFSETTO:+1100
TZNAME:AEDT
DTSTART:19701004T020000
RRULE:FREQ=YEARLY;BYMONTH=10;BYDAY=1SU
END:DAYLIGHT
END:VTIMEZONE
CALSCALE:GREGORIAN
X-WR-TIMEZONE:Australia/Sydney
BEGIN:VEVENT
DTSTART;TZID=Australia/Sydney:20200228T134009
DTEND;TZID=Australia/Sydney:20200228T144020
DTSTAMP:20200228T000000Z
UID:ff167af3-2e20-407f-a254-af6585e3e84f
LOCATION:Pitt Town PS
SUMMARY;LANGUAGE=en-us:Assembly
SEQUENCE:0
DESCRIPTION:K-6 Assembly under the COLA. This week school and district swimming carnival ribbons will be presented.
END:VEVENT
TRANSP:TRANSPARENT
END:VCALENDAR
